Package: MultiBaC Version: 1.19.0 Command: /Library/Frameworks/R.framework/Resources/bin/R CMD INSTALL MultiBaC StartedAt: 2025-10-24 15:22:46 -0400 (Fri, 24 Oct 2025) EndedAt: 2025-10-24 15:22:48 -0400 (Fri, 24 Oct 2025) EllapsedTime: 2.5 seconds RetCode: 0 Status: OK