Package: MultiAssayExperiment Version: 1.36.1 Command: /home/biocbuild/R/R/bin/R CMD INSTALL MultiAssayExperiment StartedAt: 2025-11-24 21:24:47 -0000 (Mon, 24 Nov 2025) EndedAt: 2025-11-24 21:25:28 -0000 (Mon, 24 Nov 2025) EllapsedTime: 41.5 seconds RetCode: 0 Status: OK