Package: MultiAssayExperiment Version: 1.36.1 Command: /home/biocbuild/R/R/bin/R CMD build --keep-empty-dirs --no-resave-data MultiAssayExperiment StartedAt: 2025-11-25 03:30:40 -0000 (Tue, 25 Nov 2025) EndedAt: 2025-11-25 03:32:04 -0000 (Tue, 25 Nov 2025) EllapsedTime: 84.0 seconds RetCode: 0 Status: OK PackageFile: MultiAssayExperiment_1.36.1.tar.gz PackageFileSize: 1.348 MiB