Package: MultiAssayExperiment Version: 1.35.9 Command: /home/biocbuild/bbs-3.22-bioc/R/bin/R CMD check --install=check:MultiAssayExperiment.install-out.txt --library=/home/biocbuild/bbs-3.22-bioc/R/site-library --timings MultiAssayExperiment_1.35.9.tar.gz StartedAt: 2025-10-25 02:00:45 -0400 (Sat, 25 Oct 2025) EndedAt: 2025-10-25 02:05:14 -0400 (Sat, 25 Oct 2025) EllapsedTime: 269.3 seconds RetCode: 0 Status: OK CheckDir: MultiAssayExperiment.Rcheck Warnings: 0