Package: MultiAssayExperiment Version: 1.35.9 Command: /Library/Frameworks/R.framework/Resources/bin/R CMD INSTALL MultiAssayExperiment StartedAt: 2025-10-24 15:27:51 -0400 (Fri, 24 Oct 2025) EndedAt: 2025-10-24 15:28:34 -0400 (Fri, 24 Oct 2025) EllapsedTime: 43.2 seconds RetCode: 0 Status: OK