Package: MultiAssayExperiment Version: 1.35.9 Command: rm -rf MultiAssayExperiment.buildbin-libdir && mkdir MultiAssayExperiment.buildbin-libdir && /Users/biocbuild/BBS/utils/build-universal.sh MultiAssayExperiment_1.35.9.tar.gz /Library/Frameworks/R.framework/Resources/bin/R MultiAssayExperiment.buildbin-libdir StartedAt: 2025-10-24 23:11:43 -0400 (Fri, 24 Oct 2025) EndedAt: 2025-10-24 23:11:57 -0400 (Fri, 24 Oct 2025) EllapsedTime: 14.3 seconds RetCode: 0 Status: OK PackageFile: MultiAssayExperiment_1.35.9.tgz PackageFileSize: 2.238 MiB