Package: MuData Version: 1.13.0 Command: /home/biocbuild/bbs-3.22-bioc/R/bin/R CMD INSTALL MuData StartedAt: 2025-10-24 15:31:01 -0400 (Fri, 24 Oct 2025) EndedAt: 2025-10-24 15:31:25 -0400 (Fri, 24 Oct 2025) EllapsedTime: 24.1 seconds RetCode: 0 Status: OK