Package: MuData Version: 1.13.0 Command: /Library/Frameworks/R.framework/Resources/bin/R CMD INSTALL MuData StartedAt: 2025-10-24 15:15:50 -0400 (Fri, 24 Oct 2025) EndedAt: 2025-10-24 15:16:00 -0400 (Fri, 24 Oct 2025) EllapsedTime: 9.9 seconds RetCode: 0 Status: OK