Package: MuData Version: 1.13.0 Command: /Library/Frameworks/R.framework/Resources/bin/R CMD build --keep-empty-dirs --no-resave-data MuData StartedAt: 2025-10-24 17:10:29 -0400 (Fri, 24 Oct 2025) EndedAt: 2025-10-24 17:11:43 -0400 (Fri, 24 Oct 2025) EllapsedTime: 73.9 seconds RetCode: 0 Status: OK PackageFile: MuData_1.13.0.tar.gz PackageFileSize: 2.2 MiB