Package: MsQuality Version: 1.9.3 Command: /home/biocbuild/bbs-3.22-bioc/R/bin/R CMD build --keep-empty-dirs --no-resave-data --md5 MsQuality StartedAt: 2025-10-27 18:54:31 -0400 (Mon, 27 Oct 2025) EndedAt: 2025-10-27 18:55:31 -0400 (Mon, 27 Oct 2025) EllapsedTime: 60.0 seconds RetCode: 0 Status: OK PackageFile: MsQuality_1.9.3.tar.gz PackageFileSize: 4.245 MiB