Package: MsFeatures Version: 1.17.1 Command: /home/biocbuild/bbs-3.22-bioc/R/bin/R CMD INSTALL MsFeatures StartedAt: 2025-10-24 15:33:13 -0400 (Fri, 24 Oct 2025) EndedAt: 2025-10-24 15:33:33 -0400 (Fri, 24 Oct 2025) EllapsedTime: 20.3 seconds RetCode: 0 Status: OK