Package: MsFeatures Version: 1.17.1 Command: /home/biocbuild/bbs-3.22-bioc/R/bin/R CMD build --keep-empty-dirs --no-resave-data --md5 MsFeatures StartedAt: 2025-10-24 19:01:22 -0400 (Fri, 24 Oct 2025) EndedAt: 2025-10-24 19:01:58 -0400 (Fri, 24 Oct 2025) EllapsedTime: 36.0 seconds RetCode: 0 Status: OK PackageFile: MsFeatures_1.17.1.tar.gz PackageFileSize: 1.435 MiB