Package: MsFeatures Version: 1.17.1 Command: /Library/Frameworks/R.framework/Resources/bin/R CMD build --keep-empty-dirs --no-resave-data MsFeatures StartedAt: 2025-10-24 17:56:38 -0400 (Fri, 24 Oct 2025) EndedAt: 2025-10-24 17:57:26 -0400 (Fri, 24 Oct 2025) EllapsedTime: 48.0 seconds RetCode: 0 Status: OK PackageFile: MsFeatures_1.17.1.tar.gz PackageFileSize: 1.219 MiB