Package: MsExperiment Version: 1.11.1 Command: /home/biocbuild/bbs-3.22-bioc/R/bin/R CMD build --keep-empty-dirs --no-resave-data --md5 MsExperiment StartedAt: 2025-10-24 19:01:16 -0400 (Fri, 24 Oct 2025) EndedAt: 2025-10-24 19:02:18 -0400 (Fri, 24 Oct 2025) EllapsedTime: 62.0 seconds RetCode: 0 Status: OK PackageFile: MsExperiment_1.11.1.tar.gz PackageFileSize: 1.918 MiB