Package: MsExperiment Version: 1.12.0 Command: /Library/Frameworks/R.framework/Resources/bin/R CMD INSTALL MsExperiment StartedAt: 2025-10-31 15:23:25 -0400 (Fri, 31 Oct 2025) EndedAt: 2025-10-31 15:23:39 -0400 (Fri, 31 Oct 2025) EllapsedTime: 13.4 seconds RetCode: 0 Status: OK