Package: MsExperiment Version: 1.12.0 Command: /Library/Frameworks/R.framework/Resources/bin/R CMD build --keep-empty-dirs --no-resave-data MsExperiment StartedAt: 2025-10-31 17:11:30 -0400 (Fri, 31 Oct 2025) EndedAt: 2025-10-31 17:12:03 -0400 (Fri, 31 Oct 2025) EllapsedTime: 33.4 seconds RetCode: 0 Status: OK PackageFile: MsExperiment_1.12.0.tar.gz PackageFileSize: 1.892 MiB