Package: MsDataHub Version: 1.10.0 Command: /Library/Frameworks/R.framework/Resources/bin/R CMD build --keep-empty-dirs --no-resave-data MsDataHub StartedAt: 2025-10-31 17:11:26 -0400 (Fri, 31 Oct 2025) EndedAt: 2025-10-31 17:13:12 -0400 (Fri, 31 Oct 2025) EllapsedTime: 106.1 seconds RetCode: 0 Status: OK PackageFile: MsDataHub_1.10.0.tar.gz PackageFileSize: 372.3 KiB