Package: MsDataHub Version: 1.10.0 Command: rm -rf MsDataHub.buildbin-libdir && mkdir MsDataHub.buildbin-libdir && /Users/biocbuild/BBS/utils/build-universal.sh MsDataHub_1.10.0.tar.gz /Library/Frameworks/R.framework/Resources/bin/R MsDataHub.buildbin-libdir StartedAt: 2025-10-31 23:15:23 -0400 (Fri, 31 Oct 2025) EndedAt: 2025-10-31 23:15:29 -0400 (Fri, 31 Oct 2025) EllapsedTime: 6.2 seconds RetCode: 0 Status: OK PackageFile: MsDataHub_1.10.0.tgz PackageFileSize: 391 KiB