Package: MsCoreUtils Version: 1.21.0 Command: /home/biocbuild/R/R/bin/R CMD INSTALL MsCoreUtils StartedAt: 2025-10-23 20:31:55 -0000 (Thu, 23 Oct 2025) EndedAt: 2025-10-23 20:32:04 -0000 (Thu, 23 Oct 2025) EllapsedTime: 9.2 seconds RetCode: 0 Status: OK