Package: MsCoreUtils Version: 1.21.0 Command: /home/biocbuild/bbs-3.22-bioc/R/bin/R CMD check --install=check:MsCoreUtils.install-out.txt --library=/home/biocbuild/bbs-3.22-bioc/R/site-library --timings MsCoreUtils_1.21.0.tar.gz StartedAt: 2025-10-25 01:53:07 -0400 (Sat, 25 Oct 2025) EndedAt: 2025-10-25 01:55:12 -0400 (Sat, 25 Oct 2025) EllapsedTime: 125.1 seconds RetCode: 0 Status: OK CheckDir: MsCoreUtils.Rcheck Warnings: 0