Package: MsCoreUtils Version: 1.21.0 Command: /Library/Frameworks/R.framework/Resources/bin/R CMD check --install=check:MsCoreUtils.install-out.txt --library=/Library/Frameworks/R.framework/Resources/library --no-vignettes --timings MsCoreUtils_1.21.0.tar.gz StartedAt: 2025-10-24 22:43:15 -0400 (Fri, 24 Oct 2025) EndedAt: 2025-10-24 22:47:35 -0400 (Fri, 24 Oct 2025) EllapsedTime: 259.1 seconds RetCode: 0 Status: OK CheckDir: MsCoreUtils.Rcheck Warnings: 0