Package: MsCoreUtils Version: 1.21.0 Command: /Library/Frameworks/R.framework/Resources/bin/R CMD check --install=check:MsCoreUtils.install-out.txt --library=/Library/Frameworks/R.framework/Resources/library --no-vignettes --timings MsCoreUtils_1.21.0.tar.gz StartedAt: 2025-10-24 20:54:43 -0400 (Fri, 24 Oct 2025) EndedAt: 2025-10-24 20:56:19 -0400 (Fri, 24 Oct 2025) EllapsedTime: 96.1 seconds RetCode: 0 Status: OK CheckDir: MsCoreUtils.Rcheck Warnings: 0