Package: MsCoreUtils Version: 1.21.0 Command: rm -rf MsCoreUtils.buildbin-libdir && mkdir MsCoreUtils.buildbin-libdir && /Users/biocbuild/BBS/utils/build-universal.sh MsCoreUtils_1.21.0.tar.gz /Library/Frameworks/R.framework/Resources/bin/R MsCoreUtils.buildbin-libdir StartedAt: 2025-10-24 23:11:16 -0400 (Fri, 24 Oct 2025) EndedAt: 2025-10-24 23:11:20 -0400 (Fri, 24 Oct 2025) EllapsedTime: 4.1 seconds RetCode: 0 Status: OK PackageFile: MsCoreUtils_1.21.0.tgz PackageFileSize: 538 KiB