Package: MsBackendSql Version: 1.9.4 Command: /home/biocbuild/R/R/bin/R CMD INSTALL MsBackendSql StartedAt: 2025-10-23 20:33:34 -0000 (Thu, 23 Oct 2025) EndedAt: 2025-10-23 20:33:53 -0000 (Thu, 23 Oct 2025) EllapsedTime: 19.3 seconds RetCode: 0 Status: OK