Package: MsBackendSql Version: 1.9.4 Command: /home/biocbuild/R/R/bin/R CMD build --keep-empty-dirs --no-resave-data MsBackendSql StartedAt: 2025-10-21 01:31:10 -0000 (Tue, 21 Oct 2025) EndedAt: 2025-10-21 01:32:24 -0000 (Tue, 21 Oct 2025) EllapsedTime: 74.0 seconds RetCode: 0 Status: OK PackageFile: MsBackendSql_1.9.4.tar.gz PackageFileSize: 412.6 KiB