Package: MsBackendSql Version: 1.9.4 Command: /home/biocbuild/bbs-3.22-bioc/R/bin/R CMD build --keep-empty-dirs --no-resave-data --md5 MsBackendSql StartedAt: 2025-10-27 18:52:29 -0400 (Mon, 27 Oct 2025) EndedAt: 2025-10-27 18:53:29 -0400 (Mon, 27 Oct 2025) EllapsedTime: 60.0 seconds RetCode: 0 Status: OK PackageFile: MsBackendSql_1.9.4.tar.gz PackageFileSize: 347.4 KiB