Package: MsBackendSql Version: 1.9.4 Command: /Library/Frameworks/R.framework/Resources/bin/R CMD INSTALL MsBackendSql StartedAt: 2025-10-24 15:10:28 -0400 (Fri, 24 Oct 2025) EndedAt: 2025-10-24 15:10:33 -0400 (Fri, 24 Oct 2025) EllapsedTime: 5.3 seconds RetCode: 0 Status: OK