Package: MsBackendSql Version: 1.9.4 Command: /Library/Frameworks/R.framework/Resources/bin/R CMD build --keep-empty-dirs --no-resave-data MsBackendSql StartedAt: 2025-10-24 17:08:42 -0400 (Fri, 24 Oct 2025) EndedAt: 2025-10-24 17:09:11 -0400 (Fri, 24 Oct 2025) EllapsedTime: 29.3 seconds RetCode: 0 Status: OK PackageFile: MsBackendSql_1.9.4.tar.gz PackageFileSize: 346.6 KiB