Package: MsBackendSql Version: 1.9.4 Maintainer: Johannes Rainer MaintainerEmail: Johannes.Rainer at eurac.edu git_url: https://git.bioconductor.org/packages/MsBackendSql git_branch: devel git_last_commit: d3bb395 git_last_commit_date: 2025-10-20 02:19:09 -0400 (Mon, 20 Oct 2025)