Package: MsBackendRawFileReader Version: 1.15.1 Command: /home/biocbuild/R/R/bin/R CMD INSTALL MsBackendRawFileReader StartedAt: 2025-10-23 20:33:33 -0000 (Thu, 23 Oct 2025) EndedAt: 2025-10-23 20:33:47 -0000 (Thu, 23 Oct 2025) EllapsedTime: 13.5 seconds RetCode: 0 Status: OK