Package: MsBackendRawFileReader Version: 1.15.1 Command: /Library/Frameworks/R.framework/Resources/bin/R CMD INSTALL MsBackendRawFileReader StartedAt: 2025-10-24 15:24:39 -0400 (Fri, 24 Oct 2025) EndedAt: 2025-10-24 15:24:56 -0400 (Fri, 24 Oct 2025) EllapsedTime: 17.6 seconds RetCode: 0 Status: OK