Package: MsBackendRawFileReader Version: 1.15.1 Command: /Library/Frameworks/R.framework/Resources/bin/R CMD build --keep-empty-dirs --no-resave-data MsBackendRawFileReader StartedAt: 2025-10-24 17:56:16 -0400 (Fri, 24 Oct 2025) EndedAt: 2025-10-24 17:58:48 -0400 (Fri, 24 Oct 2025) EllapsedTime: 151.9 seconds RetCode: 0 Status: OK PackageFile: MsBackendRawFileReader_1.15.1.tar.gz PackageFileSize: 1.468 MiB