Package: MsBackendRawFileReader Version: 1.15.1 Command: /Library/Frameworks/R.framework/Resources/bin/R CMD INSTALL MsBackendRawFileReader StartedAt: 2025-10-24 15:10:27 -0400 (Fri, 24 Oct 2025) EndedAt: 2025-10-24 15:10:32 -0400 (Fri, 24 Oct 2025) EllapsedTime: 5.1 seconds RetCode: 0 Status: OK