Package: MsBackendRawFileReader Version: 1.15.1 Command: /Library/Frameworks/R.framework/Resources/bin/R CMD check --install=check:MsBackendRawFileReader.install-out.txt --library=/Library/Frameworks/R.framework/Resources/library --no-vignettes --timings MsBackendRawFileReader_1.15.1.tar.gz StartedAt: 2025-10-24 20:54:39 -0400 (Fri, 24 Oct 2025) EndedAt: 2025-10-24 20:56:54 -0400 (Fri, 24 Oct 2025) EllapsedTime: 135.6 seconds RetCode: 0 Status: OK CheckDir: MsBackendRawFileReader.Rcheck Warnings: 0