Package: MsBackendMsp Version: 1.13.0 Command: /home/biocbuild/R/R/bin/R CMD INSTALL MsBackendMsp StartedAt: 2025-10-23 20:33:41 -0000 (Thu, 23 Oct 2025) EndedAt: 2025-10-23 20:33:54 -0000 (Thu, 23 Oct 2025) EllapsedTime: 13.0 seconds RetCode: 0 Status: OK