Package: MsBackendMsp Version: 1.13.0 Command: /Library/Frameworks/R.framework/Resources/bin/R CMD build --keep-empty-dirs --no-resave-data MsBackendMsp StartedAt: 2025-10-24 17:56:13 -0400 (Fri, 24 Oct 2025) EndedAt: 2025-10-24 17:56:35 -0400 (Fri, 24 Oct 2025) EllapsedTime: 22.8 seconds RetCode: 0 Status: OK PackageFile: MsBackendMsp_1.13.0.tar.gz PackageFileSize: 324.7 KiB