Package: MsBackendMsp Version: 1.13.0 Command: rm -rf MsBackendMsp.buildbin-libdir && mkdir MsBackendMsp.buildbin-libdir && /Users/biocbuild/BBS/utils/build-universal.sh MsBackendMsp_1.13.0.tar.gz /Library/Frameworks/R.framework/Resources/bin/R MsBackendMsp.buildbin-libdir StartedAt: 2025-10-25 01:51:28 -0400 (Sat, 25 Oct 2025) EndedAt: 2025-10-25 01:51:44 -0400 (Sat, 25 Oct 2025) EllapsedTime: 16.2 seconds RetCode: 0 Status: OK PackageFile: MsBackendMsp_1.13.0.tgz PackageFileSize: 366.1 KiB