Package: MsBackendMgf Version: 1.17.0 Command: /home/biocbuild/bbs-3.22-bioc/R/bin/R CMD INSTALL MsBackendMgf StartedAt: 2025-10-24 15:25:13 -0400 (Fri, 24 Oct 2025) EndedAt: 2025-10-24 15:25:23 -0400 (Fri, 24 Oct 2025) EllapsedTime: 9.5 seconds RetCode: 0 Status: OK