Package: MsBackendMgf Version: 1.17.0 Command: /home/biocbuild/bbs-3.22-bioc/R/bin/R CMD build --keep-empty-dirs --no-resave-data --md5 MsBackendMgf StartedAt: 2025-10-24 19:00:30 -0400 (Fri, 24 Oct 2025) EndedAt: 2025-10-24 19:00:48 -0400 (Fri, 24 Oct 2025) EllapsedTime: 18.0 seconds RetCode: 0 Status: OK PackageFile: MsBackendMgf_1.17.0.tar.gz PackageFileSize: 336.3 KiB