Package: MsBackendMgf Version: 1.18.0 Command: /Library/Frameworks/R.framework/Resources/bin/R CMD INSTALL MsBackendMgf StartedAt: 2025-11-03 15:21:28 -0500 (Mon, 03 Nov 2025) EndedAt: 2025-11-03 15:21:48 -0500 (Mon, 03 Nov 2025) EllapsedTime: 19.5 seconds RetCode: 0 Status: OK