Package: MsBackendMgf Version: 1.18.0 Command: /Library/Frameworks/R.framework/Resources/bin/R CMD build --keep-empty-dirs --no-resave-data MsBackendMgf StartedAt: 2025-11-03 17:54:12 -0500 (Mon, 03 Nov 2025) EndedAt: 2025-11-03 17:54:41 -0500 (Mon, 03 Nov 2025) EllapsedTime: 28.5 seconds RetCode: 0 Status: OK PackageFile: MsBackendMgf_1.18.0.tar.gz PackageFileSize: 335.7 KiB