Package: MsBackendMgf Version: 1.18.0 Command: rm -rf MsBackendMgf.buildbin-libdir && mkdir MsBackendMgf.buildbin-libdir && /Users/biocbuild/BBS/utils/build-universal.sh MsBackendMgf_1.18.0.tar.gz /Library/Frameworks/R.framework/Resources/bin/R MsBackendMgf.buildbin-libdir StartedAt: 2025-11-04 01:51:33 -0500 (Tue, 04 Nov 2025) EndedAt: 2025-11-04 01:51:49 -0500 (Tue, 04 Nov 2025) EllapsedTime: 16.1 seconds RetCode: 0 Status: OK PackageFile: MsBackendMgf_1.18.0.tgz PackageFileSize: 384.4 KiB