Package: MsBackendMgf Version: 1.17.0 Command: /Library/Frameworks/R.framework/Resources/bin/R CMD INSTALL MsBackendMgf StartedAt: 2025-10-24 15:10:32 -0400 (Fri, 24 Oct 2025) EndedAt: 2025-10-24 15:10:36 -0400 (Fri, 24 Oct 2025) EllapsedTime: 3.8 seconds RetCode: 0 Status: OK