Package: MsBackendMetaboLights Version: 1.3.1 Command: /home/biocbuild/bbs-3.22-bioc/R/bin/R CMD INSTALL MsBackendMetaboLights StartedAt: 2025-10-24 15:25:06 -0400 (Fri, 24 Oct 2025) EndedAt: 2025-10-24 15:25:18 -0400 (Fri, 24 Oct 2025) EllapsedTime: 11.8 seconds RetCode: 0 Status: OK