Package: MsBackendMetaboLights Version: 1.3.1 Command: /home/biocbuild/bbs-3.22-bioc/R/bin/R CMD check --install=check:MsBackendMetaboLights.install-out.txt --library=/home/biocbuild/bbs-3.22-bioc/R/site-library --timings MsBackendMetaboLights_1.3.1.tar.gz StartedAt: 2025-10-25 01:52:18 -0400 (Sat, 25 Oct 2025) EndedAt: 2025-10-25 02:02:53 -0400 (Sat, 25 Oct 2025) EllapsedTime: 634.7 seconds RetCode: 0 Status: OK CheckDir: MsBackendMetaboLights.Rcheck Warnings: 0