Package: MsBackendMassbank Version: 1.17.1 Command: /Library/Frameworks/R.framework/Resources/bin/R CMD INSTALL MsBackendMassbank StartedAt: 2025-10-24 15:10:32 -0400 (Fri, 24 Oct 2025) EndedAt: 2025-10-24 15:10:37 -0400 (Fri, 24 Oct 2025) EllapsedTime: 5.3 seconds RetCode: 0 Status: OK