Package: MsBackendMassbank Version: 1.17.1 Command: /Library/Frameworks/R.framework/Resources/bin/R CMD build --keep-empty-dirs --no-resave-data MsBackendMassbank StartedAt: 2025-10-24 17:08:31 -0400 (Fri, 24 Oct 2025) EndedAt: 2025-10-24 17:08:40 -0400 (Fri, 24 Oct 2025) EllapsedTime: 9.1 seconds RetCode: 0 Status: OK PackageFile: MsBackendMassbank_1.17.1.tar.gz PackageFileSize: 421.1 KiB