Package: MsBackendMassbank Version: 1.18.0 Maintainer: RforMassSpectrometry Package Maintainer MaintainerEmail: maintainer at rformassspectrometry.org git_url: https://git.bioconductor.org/packages/MsBackendMassbank git_branch: RELEASE_3_22 git_last_commit: 1be9f71 git_last_commit_date: 2025-10-29 11:06:30 -0500 (Wed, 29 Oct 2025)