Package: MouseFM Version: 1.19.1 Command: /Library/Frameworks/R.framework/Resources/bin/R CMD INSTALL MouseFM StartedAt: 2025-10-28 15:28:25 -0400 (Tue, 28 Oct 2025) EndedAt: 2025-10-28 15:28:33 -0400 (Tue, 28 Oct 2025) EllapsedTime: 7.3 seconds RetCode: 0 Status: OK