Package: MouseFM Version: 1.19.1 Command: /Library/Frameworks/R.framework/Resources/bin/R CMD build --keep-empty-dirs --no-resave-data MouseFM StartedAt: 2025-10-28 17:06:31 -0400 (Tue, 28 Oct 2025) EndedAt: 2025-10-28 17:06:56 -0400 (Tue, 28 Oct 2025) EllapsedTime: 24.3 seconds RetCode: 0 Status: OK PackageFile: MouseFM_1.19.1.tar.gz PackageFileSize: 768 KiB